BEGIN:VCALENDAR
PRODID:-//eluceo/ical//2.0/EN
VERSION:2.0
CALSCALE:GREGORIAN
BEGIN:VEVENT
UID:5afcae0ddb97fff10711363025fbf2e2
DTSTAMP:20260423T080129Z
SUMMARY:BT  Rabbi's Study Course
DESCRIPTION:Jewish Federation of Greater Naples\nCommunity Calendar\nhttps:
 //jewishnaples.org/calendar/calendar17195\n\nBT  Rabbi's Study Course
DTSTART;TZID=America/New_York:20160308T121500
DTEND;TZID=America/New_York:20160308T121500
END:VEVENT
END:VCALENDAR
