BEGIN:VCALENDAR
PRODID:-//eluceo/ical//2.0/EN
VERSION:2.0
CALSCALE:GREGORIAN
BEGIN:VEVENT
UID:dd411bcfd50dfa2e4b404a39c632ddee
DTSTAMP:20260423T072748Z
SUMMARY:TS  Sisterhood Luncheon
DESCRIPTION:Jewish Federation of Greater Naples\nCommunity Calendar\nhttps:
 //jewishnaples.org/calendar/calendar17194\n\nTS  Sisterhood Luncheon
DTSTART;TZID=America/New_York:20160308T113000
DTEND;TZID=America/New_York:20160308T113000
END:VEVENT
END:VCALENDAR
