BEGIN:VCALENDAR
PRODID:-//eluceo/ical//2.0/EN
VERSION:2.0
CALSCALE:GREGORIAN
BEGIN:VEVENT
UID:9267eb1a263db94f3fdd22eb46ef5dfd
DTSTAMP:20260424T102519Z
SUMMARY:TS  Teacher Appreciation Week
DESCRIPTION:Jewish Federation of Greater Naples\nCommunity Calendar\nhttps:
 //jewishnaples.org/calendar/calendar17188\n\nTS  Teacher Appreciation Week
DTSTART;TZID=America/New_York:20160307T090000
DTEND;TZID=America/New_York:20160307T090000
END:VEVENT
END:VCALENDAR
