BEGIN:VCALENDAR
PRODID:-//eluceo/ical//2.0/EN
VERSION:2.0
CALSCALE:GREGORIAN
BEGIN:VEVENT
UID:a5c70aff80ad971b506cd08a481f03ed
DTSTAMP:20260423T062844Z
SUMMARY:BT Sunday Minyan
DESCRIPTION:Jewish Federation of Greater Naples\nCommunity Calendar\nhttps:
 //jewishnaples.org/calendar/calendar17184\n\nBT Sunday Minyan
DTSTART;TZID=America/New_York:20160306T090000
DTEND;TZID=America/New_York:20160306T090000
END:VEVENT
END:VCALENDAR
