BEGIN:VCALENDAR
PRODID:-//eluceo/ical//2.0/EN
VERSION:2.0
CALSCALE:GREGORIAN
BEGIN:VEVENT
UID:b5d7fc5fc0bc1d358f0f0b070e4a5651
DTSTAMP:20260424T002138Z
SUMMARY:JCMI  Shabbat Services
DESCRIPTION:Jewish Federation of Greater Naples\nCommunity Calendar\nhttps:
 //jewishnaples.org/calendar/calendar17180\n\nJCMI  Shabbat Services
DTSTART;TZID=America/New_York:20160305T100000
DTEND;TZID=America/New_York:20160305T100000
END:VEVENT
END:VCALENDAR
