BEGIN:VCALENDAR
PRODID:-//eluceo/ical//2.0/EN
VERSION:2.0
CALSCALE:GREGORIAN
BEGIN:VEVENT
UID:79681f498313b6f6d106e7555714e36e
DTSTAMP:20260424T014839Z
SUMMARY:CHA  Services
DESCRIPTION:Jewish Federation of Greater Naples\nCommunity Calendar\nhttps:
 //jewishnaples.org/calendar/calendar17179\n\nCHA  Services
DTSTART;TZID=America/New_York:20160305T100000
DTEND;TZID=America/New_York:20160305T100000
END:VEVENT
END:VCALENDAR
