BEGIN:VCALENDAR
PRODID:-//eluceo/ical//2.0/EN
VERSION:2.0
CALSCALE:GREGORIAN
BEGIN:VEVENT
UID:1a70b50e7ab326af8152232a9cf0a6af
DTSTAMP:20260422T163850Z
SUMMARY:NJC Services : Men's Club Shabbat
DESCRIPTION:Jewish Federation of Greater Naples\nCommunity Calendar\nhttps:
 //jewishnaples.org/calendar/calendar17175\n\nNJC Services : Men's Club Sha
 bbat
DTSTART;TZID=America/New_York:20160304T193000
DTEND;TZID=America/New_York:20160304T200000
END:VEVENT
END:VCALENDAR
