BEGIN:VCALENDAR
PRODID:-//eluceo/ical//2.0/EN
VERSION:2.0
CALSCALE:GREGORIAN
BEGIN:VEVENT
UID:e30ee9a399e3bd973ceb8a4b27f07c01
DTSTAMP:20260420T162032Z
SUMMARY:CHA  Men's Club
DESCRIPTION:Jewish Federation of Greater Naples\nCommunity Calendar\nhttps:
 //jewishnaples.org/calendar/calendar17170\n\nCHA  Men's Club
DTSTART;TZID=America/New_York:20160303T113000
DTEND;TZID=America/New_York:20160303T113000
END:VEVENT
END:VCALENDAR
