BEGIN:VCALENDAR
PRODID:-//eluceo/ical//2.0/EN
VERSION:2.0
CALSCALE:GREGORIAN
BEGIN:VEVENT
UID:cae89125c13737f4ebec09443590c969
DTSTAMP:20260424T023016Z
SUMMARY:JCMI  Mah Jongg
DESCRIPTION:Jewish Federation of Greater Naples\nCommunity Calendar\nhttps:
 //jewishnaples.org/calendar/calendar17169\n\nJCMI  Mah Jongg
DTSTART;TZID=America/New_York:20160303T110000
DTEND;TZID=America/New_York:20160303T110000
END:VEVENT
END:VCALENDAR
