BEGIN:VCALENDAR
PRODID:-//eluceo/ical//2.0/EN
VERSION:2.0
CALSCALE:GREGORIAN
BEGIN:VEVENT
UID:6df1086df5ac1e5d37460eacc86474ba
DTSTAMP:20260422T015520Z
SUMMARY:TS  Adult B'nai Mitzvah class
DESCRIPTION:Jewish Federation of Greater Naples\nCommunity Calendar\nhttps:
 //jewishnaples.org/calendar/calendar17167\n\nTS  Adult B'nai Mitzvah class
DTSTART;TZID=America/New_York:20160302T183000
DTEND;TZID=America/New_York:20160302T183000
END:VEVENT
END:VCALENDAR
