BEGIN:VCALENDAR
PRODID:-//eluceo/ical//2.0/EN
VERSION:2.0
CALSCALE:GREGORIAN
BEGIN:VEVENT
UID:03d0aff222face8bf9d706c46c74f925
DTSTAMP:20260420T154224Z
SUMMARY:TS  Hebrew School
DESCRIPTION:Jewish Federation of Greater Naples\nCommunity Calendar\nhttps:
 //jewishnaples.org/calendar/calendar17166\n\nTS  Hebrew School
DTSTART;TZID=America/New_York:20160302T163000
DTEND;TZID=America/New_York:20160302T163000
END:VEVENT
END:VCALENDAR
