BEGIN:VCALENDAR
PRODID:-//eluceo/ical//2.0/EN
VERSION:2.0
CALSCALE:GREGORIAN
BEGIN:VEVENT
UID:405f78fb428283a5e039e160e1fc5731
DTSTAMP:20260423T142616Z
SUMMARY:BT  Hebrew School
DESCRIPTION:Jewish Federation of Greater Naples\nCommunity Calendar\nhttps:
 //jewishnaples.org/calendar/calendar17164\n\nBT  Hebrew School
DTSTART;TZID=America/New_York:20160302T163000
DTEND;TZID=America/New_York:20160302T163000
END:VEVENT
END:VCALENDAR
