BEGIN:VCALENDAR
PRODID:-//eluceo/ical//2.0/EN
VERSION:2.0
CALSCALE:GREGORIAN
BEGIN:VEVENT
UID:7f3613a1e61989f1892ba553d87859d5
DTSTAMP:20260422T150259Z
SUMMARY:JFCC Executive Board Meeting
DESCRIPTION:Jewish Federation of Greater Naples\nCommunity Calendar\nhttps:
 //jewishnaples.org/calendar/calendar17157\n\nJFCC Executive Board Meeting
DTSTART;TZID=America/New_York:20160301T160000
DTEND;TZID=America/New_York:20160301T160000
END:VEVENT
END:VCALENDAR
