BEGIN:VCALENDAR
PRODID:-//eluceo/ical//2.0/EN
VERSION:2.0
CALSCALE:GREGORIAN
BEGIN:VEVENT
UID:6f83a6a235d99e8560238ea96b0e9083
DTSTAMP:20260424T081114Z
SUMMARY:CJD - Committee Meeting
DESCRIPTION:Jewish Federation of Greater Naples\nCommunity Calendar\nhttps:
 //jewishnaples.org/calendar/calendar17155\n\nCJD - Committee Meeting
DTSTART;TZID=America/New_York:20160301T133000
DTEND;TZID=America/New_York:20160301T133000
END:VEVENT
END:VCALENDAR
