BEGIN:VCALENDAR
PRODID:-//eluceo/ical//2.0/EN
VERSION:2.0
CALSCALE:GREGORIAN
BEGIN:VEVENT
UID:6ba63378510d8e07a1d485042a2397dc
DTSTAMP:20260424T101415Z
SUMMARY:JBF  Presentation
DESCRIPTION:Jewish Federation of Greater Naples\nCommunity Calendar\nhttps:
 //jewishnaples.org/calendar/calendar17153\n\nJBF  Presentation
DTSTART;TZID=America/New_York:20160301T130000
DTEND;TZID=America/New_York:20160301T130000
END:VEVENT
END:VCALENDAR
