BEGIN:VCALENDAR
PRODID:-//eluceo/ical//2.0/EN
VERSION:2.0
CALSCALE:GREGORIAN
BEGIN:VEVENT
UID:0cf0dbca7c53803655103047e744bc84
DTSTAMP:20260420T071902Z
SUMMARY:BT  Rabbi's Study Course
DESCRIPTION:Jewish Federation of Greater Naples\nCommunity Calendar\nhttps:
 //jewishnaples.org/calendar/calendar17152\n\nBT  Rabbi's Study Course
DTSTART;TZID=America/New_York:20160301T121500
DTEND;TZID=America/New_York:20160301T121500
END:VEVENT
END:VCALENDAR
