BEGIN:VCALENDAR
PRODID:-//eluceo/ical//2.0/EN
VERSION:2.0
CALSCALE:GREGORIAN
BEGIN:VEVENT
UID:395d7f2fc7ac8045c1b386b73e63ed5d
DTSTAMP:20260424T050715Z
SUMMARY:TS - Yiddish Club Meeting
DESCRIPTION:Jewish Federation of Greater Naples\nCommunity Calendar\nhttps:
 //jewishnaples.org/calendar/calendar17150\n\nTS - Yiddish Club Meeting
DTSTART;TZID=America/New_York:20160301T100000
DTEND;TZID=America/New_York:20160301T100000
END:VEVENT
END:VCALENDAR
