BEGIN:VCALENDAR
PRODID:-//eluceo/ical//2.0/EN
VERSION:2.0
CALSCALE:GREGORIAN
BEGIN:VEVENT
UID:3569581ea21997b7683efa3ba00c5a91
DTSTAMP:20260422T223410Z
SUMMARY:BBYO Board Meeting
DESCRIPTION:Jewish Federation of Greater Naples\nCommunity Calendar\nhttps:
 //jewishnaples.org/calendar/calendar17149\n\nBBYO Board Meeting
DTSTART;TZID=America/New_York:20160301T100000
DTEND;TZID=America/New_York:20160301T100000
END:VEVENT
END:VCALENDAR
