BEGIN:VCALENDAR
PRODID:-//eluceo/ical//2.0/EN
VERSION:2.0
CALSCALE:GREGORIAN
BEGIN:VEVENT
UID:4e9f092eea0891092b214e73eef34ef8
DTSTAMP:20260423T190918Z
SUMMARY:NJC : Sunday Afternoon Movie
DESCRIPTION:Jewish Federation of Greater Naples\nCommunity Calendar\nhttps:
 //jewishnaples.org/calendar/calendar17143\n\nNJC : Sunday Afternoon Movie
DTSTART;TZID=America/New_York:20160228T150000
DTEND;TZID=America/New_York:20160228T150000
END:VEVENT
END:VCALENDAR
