BEGIN:VCALENDAR
PRODID:-//eluceo/ical//2.0/EN
VERSION:2.0
CALSCALE:GREGORIAN
BEGIN:VEVENT
UID:bbe52d0be27e6c6bf05703f404fa050b
DTSTAMP:20260423T044336Z
SUMMARY:NJC Adult Enrichment
DESCRIPTION:Jewish Federation of Greater Naples\nCommunity Calendar\nhttps:
 //jewishnaples.org/calendar/calendar17142\n\nNJC Adult Enrichment
DTSTART;TZID=America/New_York:20160228T103000
DTEND;TZID=America/New_York:20160228T103000
END:VEVENT
END:VCALENDAR
