BEGIN:VCALENDAR
PRODID:-//eluceo/ical//2.0/EN
VERSION:2.0
CALSCALE:GREGORIAN
BEGIN:VEVENT
UID:d4ea2e6219d2336de61e9c609d8feab3
DTSTAMP:20260424T051328Z
SUMMARY:BT Services
DESCRIPTION:Jewish Federation of Greater Naples\nCommunity Calendar\nhttps:
 //jewishnaples.org/calendar/calendar17133\n\nBT Services
DTSTART;TZID=America/New_York:20160227T093000
DTEND;TZID=America/New_York:20160227T093000
END:VEVENT
END:VCALENDAR
