BEGIN:VCALENDAR
PRODID:-//eluceo/ical//2.0/EN
VERSION:2.0
CALSCALE:GREGORIAN
BEGIN:VEVENT
UID:72d38f482be669a30b07666c58f518b3
DTSTAMP:20260423T081836Z
SUMMARY:JCMI Board Meeting
DESCRIPTION:Jewish Federation of Greater Naples\nCommunity Calendar\nhttps:
 //jewishnaples.org/calendar/calendar17125\n\nJCMI Board Meeting
DTSTART;TZID=America/New_York:20160225T190000
DTEND;TZID=America/New_York:20160225T190000
END:VEVENT
END:VCALENDAR
