BEGIN:VCALENDAR
PRODID:-//eluceo/ical//2.0/EN
VERSION:2.0
CALSCALE:GREGORIAN
BEGIN:VEVENT
UID:9ad0c83ba7f6e22d14366b2e17b84104
DTSTAMP:20260423T032541Z
SUMMARY:JBF  Presentation
DESCRIPTION:Jewish Federation of Greater Naples\nCommunity Calendar\nhttps:
 //jewishnaples.org/calendar/calendar17102\n\nJBF Presentation - Breakfast 
 event with Chef Rossi at the Hilton Naples
DTSTART;TZID=America/New_York:20160223T090000
DTEND;TZID=America/New_York:20160223T110000
END:VEVENT
END:VCALENDAR
