BEGIN:VCALENDAR
PRODID:-//eluceo/ical//2.0/EN
VERSION:2.0
CALSCALE:GREGORIAN
BEGIN:VEVENT
UID:910d633f959ad97e1d81911d024887f5
DTSTAMP:20260422T185938Z
SUMMARY:BT  Musical Program
DESCRIPTION:Jewish Federation of Greater Naples\nCommunity Calendar\nhttps:
 //jewishnaples.org/calendar/calendar17100\n\nBT  Musical Program
DTSTART;TZID=America/New_York:20160221T193000
DTEND;TZID=America/New_York:20160221T193000
END:VEVENT
END:VCALENDAR
