BEGIN:VCALENDAR
PRODID:-//eluceo/ical//2.0/EN
VERSION:2.0
CALSCALE:GREGORIAN
BEGIN:VEVENT
UID:c0555274919935c35918bb1f9d221a04
DTSTAMP:20260424T024543Z
SUMMARY:GenShoah  Meeting
DESCRIPTION:Jewish Federation of Greater Naples\nCommunity Calendar\nhttps:
 //jewishnaples.org/calendar/calendar17098\n\nGenShoah  Meeting
DTSTART;TZID=America/New_York:20160221T163000
DTEND;TZID=America/New_York:20160221T163000
END:VEVENT
END:VCALENDAR
