BEGIN:VCALENDAR
PRODID:-//eluceo/ical//2.0/EN
VERSION:2.0
CALSCALE:GREGORIAN
BEGIN:VEVENT
UID:13a70841b5f4886296e2e86f65c2cf61
DTSTAMP:20260423T203212Z
SUMMARY:TS Sunday School
DESCRIPTION:Jewish Federation of Greater Naples\nCommunity Calendar\nhttps:
 //jewishnaples.org/calendar/calendar17094\n\nTS Sunday School
DTSTART;TZID=America/New_York:20160221T093000
DTEND;TZID=America/New_York:20160221T093000
END:VEVENT
END:VCALENDAR
