BEGIN:VCALENDAR
PRODID:-//eluceo/ical//2.0/EN
VERSION:2.0
CALSCALE:GREGORIAN
BEGIN:VEVENT
UID:fcb95dcfb726e796a5d0832cd8dacc21
DTSTAMP:20260423T190427Z
SUMMARY:JWV Monthly Meeting
DESCRIPTION:Jewish Federation of Greater Naples\nCommunity Calendar\nhttps:
 //jewishnaples.org/calendar/calendar17093\n\nJWV Monthly Meeting
DTSTART;TZID=America/New_York:20160221T093000
DTEND;TZID=America/New_York:20160221T093000
END:VEVENT
END:VCALENDAR
