BEGIN:VCALENDAR
PRODID:-//eluceo/ical//2.0/EN
VERSION:2.0
CALSCALE:GREGORIAN
BEGIN:VEVENT
UID:5734a924c3b8ea2518bc748c5da2b113
DTSTAMP:20260421T215316Z
SUMMARY:BT Sunday Minyan
DESCRIPTION:Jewish Federation of Greater Naples\nCommunity Calendar\nhttps:
 //jewishnaples.org/calendar/calendar17092\n\nBT Sunday Minyan
DTSTART;TZID=America/New_York:20160221T090000
DTEND;TZID=America/New_York:20160221T090000
END:VEVENT
END:VCALENDAR
