BEGIN:VCALENDAR
PRODID:-//eluceo/ical//2.0/EN
VERSION:2.0
CALSCALE:GREGORIAN
BEGIN:VEVENT
UID:d8fe83e34ae0e1a2b2e5bb7195d5b19d
DTSTAMP:20260420T030009Z
SUMMARY:TS Services
DESCRIPTION:Jewish Federation of Greater Naples\nCommunity Calendar\nhttps:
 //jewishnaples.org/calendar/calendar17085\n\nTS Services
DTSTART;TZID=America/New_York:20160219T193000
DTEND;TZID=America/New_York:20160219T193000
END:VEVENT
END:VCALENDAR
