BEGIN:VCALENDAR
PRODID:-//eluceo/ical//2.0/EN
VERSION:2.0
CALSCALE:GREGORIAN
BEGIN:VEVENT
UID:33d8ead9de5240d31b6f77378e55bf21
DTSTAMP:20260424T064243Z
SUMMARY:NJC Services : Sisterhood Shabbat
DESCRIPTION:Jewish Federation of Greater Naples\nCommunity Calendar\nhttps:
 //jewishnaples.org/calendar/calendar17084\n\nNJC Services : Sisterhood Sha
 bbat
DTSTART;TZID=America/New_York:20160219T193000
DTEND;TZID=America/New_York:20160219T200000
END:VEVENT
END:VCALENDAR
