BEGIN:VCALENDAR
PRODID:-//eluceo/ical//2.0/EN
VERSION:2.0
CALSCALE:GREGORIAN
BEGIN:VEVENT
UID:1303092b1dae3078809c7a8dce02c0f0
DTSTAMP:20260422T015645Z
SUMMARY:BT Service
DESCRIPTION:Jewish Federation of Greater Naples\nCommunity Calendar\nhttps:
 //jewishnaples.org/calendar/calendar17083\n\nBT Service
DTSTART;TZID=America/New_York:20160219T181500
DTEND;TZID=America/New_York:20160219T181500
END:VEVENT
END:VCALENDAR
