BEGIN:VCALENDAR
PRODID:-//eluceo/ical//2.0/EN
VERSION:2.0
CALSCALE:GREGORIAN
BEGIN:VEVENT
UID:775e69f45e393ad927ea3c53a6c4cc8e
DTSTAMP:20260422T043758Z
SUMMARY:BBYO  Youth Activity
DESCRIPTION:Jewish Federation of Greater Naples\nCommunity Calendar\nhttps:
 //jewishnaples.org/calendar/calendar17081\n\nBBYO  Youth Activity
DTSTART;TZID=America/New_York:20160218T180000
DTEND;TZID=America/New_York:20160218T180000
END:VEVENT
END:VCALENDAR
