BEGIN:VCALENDAR
PRODID:-//eluceo/ical//2.0/EN
VERSION:2.0
CALSCALE:GREGORIAN
BEGIN:VEVENT
UID:d98663ce9e2f9e655059286515a50b97
DTSTAMP:20260424T030913Z
SUMMARY:CHA  Men's Club
DESCRIPTION:Jewish Federation of Greater Naples\nCommunity Calendar\nhttps:
 //jewishnaples.org/calendar/calendar17077\n\nCHA  Men's Club
DTSTART;TZID=America/New_York:20160218T113000
DTEND;TZID=America/New_York:20160218T113000
END:VEVENT
END:VCALENDAR
