BEGIN:VCALENDAR
PRODID:-//eluceo/ical//2.0/EN
VERSION:2.0
CALSCALE:GREGORIAN
BEGIN:VEVENT
UID:4f8ac2cc17fc80ba12aedbb55bc2ffa9
DTSTAMP:20260424T061813Z
SUMMARY:JCMI  Mah Jongg
DESCRIPTION:Jewish Federation of Greater Naples\nCommunity Calendar\nhttps:
 //jewishnaples.org/calendar/calendar17076\n\nJCMI  Mah Jongg
DTSTART;TZID=America/New_York:20160218T110000
DTEND;TZID=America/New_York:20160218T110000
END:VEVENT
END:VCALENDAR
