BEGIN:VCALENDAR
PRODID:-//eluceo/ical//2.0/EN
VERSION:2.0
CALSCALE:GREGORIAN
BEGIN:VEVENT
UID:5688014ffebd63b623561d191b477bdb
DTSTAMP:20260423T192212Z
SUMMARY:JFCC People of the Book
DESCRIPTION:Jewish Federation of Greater Naples\nCommunity Calendar\nhttps:
 //jewishnaples.org/calendar/calendar17073\n\nJFCC People of the Book
DTSTART;TZID=America/New_York:20160217T170000
DTEND;TZID=America/New_York:20160217T170000
END:VEVENT
END:VCALENDAR
