BEGIN:VCALENDAR
PRODID:-//eluceo/ical//2.0/EN
VERSION:2.0
CALSCALE:GREGORIAN
BEGIN:VEVENT
UID:596267a9c8028c0712dc42dcf72f1168
DTSTAMP:20260423T193706Z
SUMMARY:BT  Hebrew School
DESCRIPTION:Jewish Federation of Greater Naples\nCommunity Calendar\nhttps:
 //jewishnaples.org/calendar/calendar17071\n\nBT  Hebrew School
DTSTART;TZID=America/New_York:20160217T163000
DTEND;TZID=America/New_York:20160217T163000
END:VEVENT
END:VCALENDAR
