BEGIN:VCALENDAR
PRODID:-//eluceo/ical//2.0/EN
VERSION:2.0
CALSCALE:GREGORIAN
BEGIN:VEVENT
UID:0623b628ac7c3eb8fc52103c553cb6f1
DTSTAMP:20260423T002259Z
SUMMARY:WCA - TS  Canasta
DESCRIPTION:Jewish Federation of Greater Naples\nCommunity Calendar\nhttps:
 //jewishnaples.org/calendar/calendar17070\n\nWCA - TS  Canasta
DTSTART;TZID=America/New_York:20160217T130000
DTEND;TZID=America/New_York:20160217T130000
END:VEVENT
END:VCALENDAR
