BEGIN:VCALENDAR
PRODID:-//eluceo/ical//2.0/EN
VERSION:2.0
CALSCALE:GREGORIAN
BEGIN:VEVENT
UID:4710c44a32dfacec10c938d44750d98a
DTSTAMP:20260422T120105Z
SUMMARY:JCMI   Duplicate Bridge
DESCRIPTION:Jewish Federation of Greater Naples\nCommunity Calendar\nhttps:
 //jewishnaples.org/calendar/calendar17062\n\nJCMI   Duplicate Bridge
DTSTART;TZID=America/New_York:20160216T130000
DTEND;TZID=America/New_York:20160216T130000
END:VEVENT
END:VCALENDAR
