BEGIN:VCALENDAR
PRODID:-//eluceo/ical//2.0/EN
VERSION:2.0
CALSCALE:GREGORIAN
BEGIN:VEVENT
UID:8423f284d8cc22ad9010963789ba8350
DTSTAMP:20260421T234129Z
SUMMARY:TS - Yiddish Club Meeting
DESCRIPTION:Jewish Federation of Greater Naples\nCommunity Calendar\nhttps:
 //jewishnaples.org/calendar/calendar17059\n\nTS - Yiddish Club Meeting
DTSTART;TZID=America/New_York:20160216T100000
DTEND;TZID=America/New_York:20160216T100000
END:VEVENT
END:VCALENDAR
