BEGIN:VCALENDAR
PRODID:-//eluceo/ical//2.0/EN
VERSION:2.0
CALSCALE:GREGORIAN
BEGIN:VEVENT
UID:b96aead86dba836184863504ece14219
DTSTAMP:20260423T092707Z
SUMMARY:JCMI  Bingo
DESCRIPTION:Jewish Federation of Greater Naples\nCommunity Calendar\nhttps:
 //jewishnaples.org/calendar/calendar17058\n\nJCMI  Bingo
DTSTART;TZID=America/New_York:20160215T173000
DTEND;TZID=America/New_York:20160215T173000
END:VEVENT
END:VCALENDAR
