BEGIN:VCALENDAR
PRODID:-//eluceo/ical//2.0/EN
VERSION:2.0
CALSCALE:GREGORIAN
BEGIN:VEVENT
UID:9492eaab361bff7e6b421a8d70fcd4b1
DTSTAMP:20260423T105246Z
SUMMARY:Presidents' Day (Washington's Birthday)
DESCRIPTION:Jewish Federation of Greater Naples\nCommunity Calendar\nhttps:
 //jewishnaples.org/calendar/calendar17055\n\nPresidents' Day (Washington's
  Birthday)
DTSTART;TZID=America/New_York:20160215T000000
DTEND;TZID=America/New_York:20160216T000000
END:VEVENT
END:VCALENDAR
