BEGIN:VCALENDAR
PRODID:-//eluceo/ical//2.0/EN
VERSION:2.0
CALSCALE:GREGORIAN
BEGIN:VEVENT
UID:7041576f7e5c2531c56a927cfc316c8d
DTSTAMP:20260422T163756Z
SUMMARY:NJC  Adult Enrichment
DESCRIPTION:Jewish Federation of Greater Naples\nCommunity Calendar\nhttps:
 //jewishnaples.org/calendar/calendar17053\n\nNJC  Adult Enrichment
DTSTART;TZID=America/New_York:20160214T103000
DTEND;TZID=America/New_York:20160214T103000
END:VEVENT
END:VCALENDAR
