BEGIN:VCALENDAR
PRODID:-//eluceo/ical//2.0/EN
VERSION:2.0
CALSCALE:GREGORIAN
BEGIN:VEVENT
UID:4d941e8df34806dfae424f137476bd86
DTSTAMP:20260423T033034Z
SUMMARY:BT Sunday Minyan
DESCRIPTION:Jewish Federation of Greater Naples\nCommunity Calendar\nhttps:
 //jewishnaples.org/calendar/calendar17050\n\nBT Sunday Minyan
DTSTART;TZID=America/New_York:20160214T090000
DTEND;TZID=America/New_York:20160214T090000
END:VEVENT
END:VCALENDAR
