BEGIN:VCALENDAR
PRODID:-//eluceo/ical//2.0/EN
VERSION:2.0
CALSCALE:GREGORIAN
BEGIN:VEVENT
UID:aea768be276348e1da98611326ba23de
DTSTAMP:20260423T084445Z
SUMMARY:JCMI  Shabbat Services
DESCRIPTION:Jewish Federation of Greater Naples\nCommunity Calendar\nhttps:
 //jewishnaples.org/calendar/calendar17046\n\nJCMI  Shabbat Services
DTSTART;TZID=America/New_York:20160213T100000
DTEND;TZID=America/New_York:20160213T100000
END:VEVENT
END:VCALENDAR
