BEGIN:VCALENDAR
PRODID:-//eluceo/ical//2.0/EN
VERSION:2.0
CALSCALE:GREGORIAN
BEGIN:VEVENT
UID:91059775df776d3660efb664c4715ed4
DTSTAMP:20260423T053902Z
SUMMARY:CHA  Services
DESCRIPTION:Jewish Federation of Greater Naples\nCommunity Calendar\nhttps:
 //jewishnaples.org/calendar/calendar17045\n\nCHA  Services
DTSTART;TZID=America/New_York:20160213T100000
DTEND;TZID=America/New_York:20160213T100000
END:VEVENT
END:VCALENDAR
