BEGIN:VCALENDAR
PRODID:-//eluceo/ical//2.0/EN
VERSION:2.0
CALSCALE:GREGORIAN
BEGIN:VEVENT
UID:a5f4cbec916a1b2e9cf832901e3af448
DTSTAMP:20260423T074213Z
SUMMARY:BT Services
DESCRIPTION:Jewish Federation of Greater Naples\nCommunity Calendar\nhttps:
 //jewishnaples.org/calendar/calendar17044\n\nBT Services
DTSTART;TZID=America/New_York:20160213T093000
DTEND;TZID=America/New_York:20160213T093000
END:VEVENT
END:VCALENDAR
