BEGIN:VCALENDAR
PRODID:-//eluceo/ical//2.0/EN
VERSION:2.0
CALSCALE:GREGORIAN
BEGIN:VEVENT
UID:8f7f0734404ef75db899418f86cca210
DTSTAMP:20260424T081011Z
SUMMARY:JCMI  Services
DESCRIPTION:Jewish Federation of Greater Naples\nCommunity Calendar\nhttps:
 //jewishnaples.org/calendar/calendar17043\n\nJCMI  Services
DTSTART;TZID=America/New_York:20160212T200000
DTEND;TZID=America/New_York:20160212T200000
END:VEVENT
END:VCALENDAR
