BEGIN:VCALENDAR
PRODID:-//eluceo/ical//2.0/EN
VERSION:2.0
CALSCALE:GREGORIAN
BEGIN:VEVENT
UID:e5ab45354e63e4dfdca85e116f37a3ed
DTSTAMP:20260423T015838Z
SUMMARY:TS Preschool Closed
DESCRIPTION:Jewish Federation of Greater Naples\nCommunity Calendar\nhttps:
 //jewishnaples.org/calendar/calendar17038\n\nTS Preschool Closed
DTSTART;TZID=America/New_York:20160212T090000
DTEND;TZID=America/New_York:20160212T090000
END:VEVENT
END:VCALENDAR
