BEGIN:VCALENDAR
PRODID:-//eluceo/ical//2.0/EN
VERSION:2.0
CALSCALE:GREGORIAN
BEGIN:VEVENT
UID:0a3a24f1e90d3a583c0b8d75111610b7
DTSTAMP:20260422T161831Z
SUMMARY:GenShoah-TS : Film Presentation
DESCRIPTION:Jewish Federation of Greater Naples\nCommunity Calendar\nhttps:
 //jewishnaples.org/calendar/calendar17027\n\nGenShoah-TS : Film Presentati
 on
DTSTART;TZID=America/New_York:20160210T190000
DTEND;TZID=America/New_York:20160210T190000
END:VEVENT
END:VCALENDAR
