BEGIN:VCALENDAR
PRODID:-//eluceo/ical//2.0/EN
VERSION:2.0
CALSCALE:GREGORIAN
BEGIN:VEVENT
UID:3c751616ebc57bfeb389c0bc2f8e7d3e
DTSTAMP:20260424T021838Z
SUMMARY:TS  Hebrew School
DESCRIPTION:Jewish Federation of Greater Naples\nCommunity Calendar\nhttps:
 //jewishnaples.org/calendar/calendar17025\n\nTS  Hebrew School
DTSTART;TZID=America/New_York:20160210T163000
DTEND;TZID=America/New_York:20160210T163000
END:VEVENT
END:VCALENDAR
